BEGIN:VCALENDAR
VERSION:2.0
PRODID:-//1ère Compagnie d&#039;Arc d&#039;Annemasse - ECPv6.15.7//NONSGML v1.0//EN
CALSCALE:GREGORIAN
METHOD:PUBLISH
X-ORIGINAL-URL:https://arc-annemasse.fr
X-WR-CALDESC:Évènements pour 1ère Compagnie d&#039;Arc d&#039;Annemasse
REFRESH-INTERVAL;VALUE=DURATION:PT1H
X-Robots-Tag:noindex
X-PUBLISHED-TTL:PT1H
BEGIN:VTIMEZONE
TZID:UTC
BEGIN:STANDARD
TZOFFSETFROM:+0000
TZOFFSETTO:+0000
TZNAME:UTC
DTSTART:20250101T000000
END:STANDARD
END:VTIMEZONE
BEGIN:VEVENT
DTSTART;VALUE=DATE:20260114
DTEND;VALUE=DATE:20260115
DTSTAMP:20260424T162035
CREATED:20260111T082759Z
LAST-MODIFIED:20260111T082759Z
UID:6373-1768348800-1768435199@arc-annemasse.fr
SUMMARY:2x18m - Riom
DESCRIPTION:Mandat Riom
URL:https://arc-annemasse.fr/event/2x18m-riom/
LOCATION:Riom\, Centre régional de Tir à l'Arc\, Place de l'Europe\, Riom\, 63- Puy de Dôme\, 63200\, France
END:VEVENT
BEGIN:VEVENT
DTSTART;VALUE=DATE:20260117
DTEND;VALUE=DATE:20260119
DTSTAMP:20260424T162035
CREATED:20260111T123949Z
LAST-MODIFIED:20260111T123949Z
UID:6409-1768608000-1768780799@arc-annemasse.fr
SUMMARY:2x18m - Sassenage
DESCRIPTION:Mandat Sassenage\nLien inscription : Cliquez Ici\n 
URL:https://arc-annemasse.fr/event/2x18m-sassenage/
LOCATION:Sassenage\, 2TER Rue Pierre de Coubertin\, Sassenage\, 38- Isère\, 38360\, France
END:VEVENT
BEGIN:VEVENT
DTSTART;VALUE=DATE:20260117
DTEND;VALUE=DATE:20260119
DTSTAMP:20260424T162035
CREATED:20260111T124535Z
LAST-MODIFIED:20260111T124535Z
UID:6414-1768608000-1768780799@arc-annemasse.fr
SUMMARY:2x18m - Brignais
DESCRIPTION:Mandat Brignais\nInscription via : o.boute@laposte.net
URL:https://arc-annemasse.fr/event/2x18m-brignais/
LOCATION:Brignais\, Rue Paul Bouvier Lapierre\, Brignais\, 69- Rhône\, 69530\, France
END:VEVENT
BEGIN:VEVENT
DTSTART;VALUE=DATE:20260117
DTEND;VALUE=DATE:20260119
DTSTAMP:20260424T162035
CREATED:20260111T124913Z
LAST-MODIFIED:20260111T124913Z
UID:6419-1768608000-1768780799@arc-annemasse.fr
SUMMARY:2x18m - Dagneux
DESCRIPTION:Mandat Dagneux\nLien inscription : Cliquez Ici 
URL:https://arc-annemasse.fr/event/2x18m-dagneux/
LOCATION:Dagneux\, Route de Bressolles\, Dagneux\, 01- Ain\, 01120\, France
END:VEVENT
BEGIN:VEVENT
DTSTART;VALUE=DATE:20260117
DTEND;VALUE=DATE:20260119
DTSTAMP:20260424T162035
CREATED:20260111T125304Z
LAST-MODIFIED:20260111T125304Z
UID:6424-1768608000-1768780799@arc-annemasse.fr
SUMMARY:2x18m - Cruseilles
DESCRIPTION:Mandat Cruseilles\nLien inscription : Cliquez Ici
URL:https://arc-annemasse.fr/event/2x18m-cruseilles/
LOCATION:Cruseilles\, 230 Avenue des Ebeaux\, Cruseilles\, 74- Haute-Savoie\, 74350\, France
END:VEVENT
BEGIN:VEVENT
DTSTART;VALUE=DATE:20260117
DTEND;VALUE=DATE:20260119
DTSTAMP:20260424T162035
CREATED:20260111T125803Z
LAST-MODIFIED:20260111T125803Z
UID:6427-1768608000-1768780799@arc-annemasse.fr
SUMMARY:2x18m - Albertville
DESCRIPTION:Mandat Albertville\nMANDAT OFFICIEL EN PAGE 2\nInscriptions via : arc.albertville@gmail.com\n 
URL:https://arc-annemasse.fr/event/2x18m-albertville/
LOCATION:Albertville\, Gymnase du centre-ville d'Albertville\, Albertville\, 73- Savoie\, 73200\, France
END:VEVENT
BEGIN:VEVENT
DTSTART;VALUE=DATE:20260124
DTEND;VALUE=DATE:20260126
DTSTAMP:20260424T162035
CREATED:20260111T130304Z
LAST-MODIFIED:20260111T130304Z
UID:6432-1769212800-1769385599@arc-annemasse.fr
SUMMARY:2x18m - La Mure d'Isère
DESCRIPTION:Mandat la Murre d'Isère\nLien inscription : Cliquez Ici\n 
URL:https://arc-annemasse.fr/event/2x18m-la-mure-disere/
LOCATION:La Mure d’Isère\, Complexe Sportif Jean Morel\, La Mure d'Isère\, 38- Isère\, 38350\, France
END:VEVENT
BEGIN:VEVENT
DTSTART;VALUE=DATE:20260124
DTEND;VALUE=DATE:20260126
DTSTAMP:20260424T162035
CREATED:20260111T130645Z
LAST-MODIFIED:20260111T130645Z
UID:6437-1769212800-1769385599@arc-annemasse.fr
SUMMARY:2x18m - Saint Laurent de Chamousset
DESCRIPTION:Mandat St Laurent de Chamousset\nInscriptions via : concoursslcta@gmail.com
URL:https://arc-annemasse.fr/event/2x18m-saint-laurent-de-chamousset/
LOCATION:St Laurent de Chamousset\, Salle Polyvalente\, Saint Laurent de Chamousset\, 69- Rhône\, 69930\, France
END:VEVENT
BEGIN:VEVENT
DTSTART;VALUE=DATE:20260124
DTEND;VALUE=DATE:20260126
DTSTAMP:20260424T162035
CREATED:20260111T131505Z
LAST-MODIFIED:20260111T131505Z
UID:6441-1769212800-1769385599@arc-annemasse.fr
SUMMARY:2x18m - Chassieu
DESCRIPTION:Mandat Chassieu\nInscriptions via : chassieuarc@gmail.com
URL:https://arc-annemasse.fr/event/2x18m-chassieu/
LOCATION:Chassieu
END:VEVENT
BEGIN:VEVENT
DTSTART;VALUE=DATE:20260124
DTEND;VALUE=DATE:20260126
DTSTAMP:20260424T162035
CREATED:20260111T132218Z
LAST-MODIFIED:20260111T132218Z
UID:6445-1769212800-1769385599@arc-annemasse.fr
SUMMARY:2x18m - Bonneville
DESCRIPTION:Mandat Bonneville\nLien inscription : Cliquez Ici
URL:https://arc-annemasse.fr/event/2x18m-bonneville/
LOCATION:Bonneville\, 95\, rue des Vorziers\, Bonneville\, 74- Haute-Savoie\, 74130
END:VEVENT
BEGIN:VEVENT
DTSTART;VALUE=DATE:20260125
DTEND;VALUE=DATE:20260126
DTSTAMP:20260424T162035
CREATED:20260111T162911Z
LAST-MODIFIED:20260111T162911Z
UID:6449-1769299200-1769385599@arc-annemasse.fr
SUMMARY:DEBUTANTS - Bonneville
DESCRIPTION:Mandat Bonneville DEBUTANT\nLien inscription : Cliquez Ici \n 
URL:https://arc-annemasse.fr/event/debutants-bonneville/
LOCATION:Bonneville\, 95\, rue des Vorziers\, Bonneville\, 74- Haute-Savoie\, 74130
END:VEVENT
BEGIN:VEVENT
DTSTART;VALUE=DATE:20260131
DTEND;VALUE=DATE:20260202
DTSTAMP:20260424T162035
CREATED:20260111T164440Z
LAST-MODIFIED:20260111T200755Z
UID:6452-1769817600-1769990399@arc-annemasse.fr
SUMMARY:2x18m - Championnat Départemental - Seynod
DESCRIPTION:Toutes les informations sont disponibles via le lien suivant : Cliquez Ici\nLien inscription : Cliquez Ici\n 
URL:https://arc-annemasse.fr/event/2x18m-championnat-departemental-seynod/
LOCATION:Seynod
END:VEVENT
END:VCALENDAR