BEGIN:VCALENDAR
VERSION:2.0
PRODID:-//1ère Compagnie d&#039;Arc d&#039;Annemasse - ECPv6.15.7//NONSGML v1.0//EN
CALSCALE:GREGORIAN
METHOD:PUBLISH
X-WR-CALNAME:1ère Compagnie d&#039;Arc d&#039;Annemasse
X-ORIGINAL-URL:https://arc-annemasse.fr
X-WR-CALDESC:Évènements pour 1ère Compagnie d&#039;Arc d&#039;Annemasse
REFRESH-INTERVAL;VALUE=DURATION:PT1H
X-Robots-Tag:noindex
X-PUBLISHED-TTL:PT1H
BEGIN:VTIMEZONE
TZID:UTC
BEGIN:STANDARD
TZOFFSETFROM:+0000
TZOFFSETTO:+0000
TZNAME:UTC
DTSTART:20250101T000000
END:STANDARD
END:VTIMEZONE
BEGIN:VEVENT
DTSTART;VALUE=DATE:20260424
DTEND;VALUE=DATE:20260427
DTSTAMP:20260426T041842
CREATED:20260412T154231Z
LAST-MODIFIED:20260412T154231Z
UID:6818-1776988800-1777247999@arc-annemasse.fr
SUMMARY:TAE - Tournoi National Jeune 1 - Sarcelles
DESCRIPTION:
URL:https://arc-annemasse.fr/event/tae-tournoi-national-jeune-1-sarcelles/
LOCATION:Sarcelles Ext\, 95585\, France
END:VEVENT
BEGIN:VEVENT
DTSTART;VALUE=DATE:20260425
DTEND;VALUE=DATE:20260427
DTSTAMP:20260426T041842
CREATED:20260125T153851Z
LAST-MODIFIED:20260412T145319Z
UID:6504-1777075200-1777247999@arc-annemasse.fr
SUMMARY:TAE - Annecy
DESCRIPTION:Mandat Annecy\nInscriptions via l’adresse mail suivante : inscriptions@arc-annecy.com\n 
URL:https://arc-annemasse.fr/event/tae-annecy/
LOCATION:Annecy Ext\, Terrain de tir Max Decarre\, Parking Chemin des Combes\, Annecy\, 74- Haute-Savoie\, 74600\, France
END:VEVENT
BEGIN:VEVENT
DTSTART;VALUE=DATE:20260426
DTEND;VALUE=DATE:20260427
DTSTAMP:20260426T041842
CREATED:20260215T151917Z
LAST-MODIFIED:20260412T150353Z
UID:6555-1777161600-1777247999@arc-annemasse.fr
SUMMARY:TAE - Beauzac
DESCRIPTION:Mandat Beauzac\nInscriptions via l’adresse mail suivante : tirarc43@gmail.com
URL:https://arc-annemasse.fr/event/tae-beauzac/
LOCATION:Beauzac\, Centre de tir à l'arc de Beauzac\, 1 chemin des archers Vourze\, Beauzac\, 43- Haute-Loire\, 43590\, France
END:VEVENT
BEGIN:VEVENT
DTSTART;VALUE=DATE:20260426
DTEND;VALUE=DATE:20260427
DTSTAMP:20260426T041842
CREATED:20260215T152113Z
LAST-MODIFIED:20260412T152638Z
UID:6558-1777161600-1777247999@arc-annemasse.fr
SUMMARY:TAE - Saint Chamond
DESCRIPTION:Mandat Saint Chamond\nInscriptions via l’adresse mail suivante : jeannedarcizieux@gmail.com
URL:https://arc-annemasse.fr/event/tae-saint-chamond/
LOCATION:Saint Chamond Ext\, Stade de la Brocharie\, route de la Charbure\, Saint Chamond\, 42- Loire\, 42400\, France
END:VEVENT
BEGIN:VEVENT
DTSTART;VALUE=DATE:20260426
DTEND;VALUE=DATE:20260427
DTSTAMP:20260426T041842
CREATED:20260328T091202Z
LAST-MODIFIED:20260412T153142Z
UID:6710-1777161600-1777247999@arc-annemasse.fr
SUMMARY:TAE - DRH Poulies - Manche 1 - Rives
DESCRIPTION:Les sélections se font uniquement par le club. \nMandat Saint Chamond
URL:https://arc-annemasse.fr/event/tae-drh-poulies-manche-1-rives/
LOCATION:Rives Ext\, Stade Charvet\, rue Aristide Bergès\, Rives\, 38- Isère\, 38140\, France
END:VEVENT
END:VCALENDAR